BEGIN:VCALENDAR
VERSION:2.0
CALSCALE:GREGORIAN
METHOD:PUBLISH
PRODID:
SCALE:GREGORIAN
TIMEZONE:UTC
BEGIN:VEVENT
DTSTART:20240919T013000Z

DTEND:20240919T050000Z
LOCATION:Hilton Garden Inn,  1755 S Waterman Avenue, San Bernardino, CA
SUMMARY:Domestic Programming For Programming Providers & Shops as Customers
END:VEVENT
BEGIN:VEVENT
DTSTART:20240920T013000Z

DTEND:20240920T050000Z
LOCATION:Hilton Garden Inn,  1755 S Waterman Avenue, San Bernardino, CA
SUMMARY:Domestic Programming For Programming Providers & Shops as Customers
END:VEVENT
X-WR-TIMEZONE:UTC
END:VCALENDAR
