BEGIN:VCALENDAR
VERSION:2.0
CALSCALE:GREGORIAN
METHOD:PUBLISH
PRODID:
SCALE:GREGORIAN
TIMEZONE:UTC
BEGIN:VEVENT
DTSTART:20240828T223000Z

DTEND:20240829T020000Z
LOCATION:Staybridge Suites,  3420 Norman Berry Drive, Hapeville, GA
SUMMARY:Domestic Programming For Programming Providers & Shops as Customers
END:VEVENT
BEGIN:VEVENT
DTSTART:20240829T223000Z

DTEND:20240830T020000Z
LOCATION:Staybridge Suites,  3420 Norman Berry Drive, Hapeville, GA
SUMMARY:Domestic Programming For Programming Providers & Shops as Customers
END:VEVENT
X-WR-TIMEZONE:UTC
END:VCALENDAR
