BEGIN:VCALENDAR
VERSION:2.0
CALSCALE:GREGORIAN
METHOD:PUBLISH
PRODID:
SCALE:GREGORIAN
TIMEZONE:UTC
BEGIN:VEVENT
DTSTART:20240731T223000Z

DTEND:20240801T020000Z
LOCATION:Hampton Inn & Suites,  201 E Exchange Blvd., Columbia, SC
SUMMARY:Domestic Programming
END:VEVENT
BEGIN:VEVENT
DTSTART:20240801T223000Z

DTEND:20240802T020000Z
LOCATION:Hampton Inn & Suites,  201 E Exchange Blvd., Columbia, SC
SUMMARY:Domestic Programming
END:VEVENT
X-WR-TIMEZONE:UTC
END:VCALENDAR
