BEGIN:VCALENDAR
VERSION:2.0
CALSCALE:GREGORIAN
METHOD:PUBLISH
PRODID:
SCALE:GREGORIAN
TIMEZONE:UTC
BEGIN:VEVENT
DTSTART:20240325T223000Z

DTEND:20240326T020000Z
LOCATION:Holiday Inn Express,  4021 Union Deposit Road, Harrisburg, PA
SUMMARY:Duramax L5P Diesel Engine & Aftertreatment Diagnostics
END:VEVENT
BEGIN:VEVENT
DTSTART:20240326T223000Z

DTEND:20240327T020000Z
LOCATION:Holiday Inn Express,  4021 Union Deposit Road, Harrisburg, PA
SUMMARY:Duramax L5P Diesel Engine & Aftertreatment Diagnostics
END:VEVENT
X-WR-TIMEZONE:UTC
END:VCALENDAR
