BEGIN:VCALENDAR
VERSION:2.0
CALSCALE:GREGORIAN
METHOD:PUBLISH
PRODID:
SCALE:GREGORIAN
TIMEZONE:UTC
BEGIN:VEVENT
DTSTART:20231018T223000Z

DTEND:20231019T020000Z
LOCATION:Staybridge Suites,  3420 Norman Berry Drive, Hapeville, GA
SUMMARY:Data Stream: Scan Tool Techniques
END:VEVENT
BEGIN:VEVENT
DTSTART:20231019T223000Z

DTEND:20231020T020000Z
LOCATION:Staybridge Suites,  3420 Norman Berry Drive, Hapeville, GA
SUMMARY:Data Stream: Scan Tool Techniques
END:VEVENT
X-WR-TIMEZONE:UTC
END:VCALENDAR
