BEGIN:VCALENDAR
VERSION:2.0
CALSCALE:GREGORIAN
METHOD:PUBLISH
PRODID:
SCALE:GREGORIAN
TIMEZONE:UTC
BEGIN:VEVENT
DTSTART:20230531T223000Z

DTEND:20230601T020000Z
LOCATION:College of Central Florida, Ocala Campus,  3001 SW College Road, Ocala, FL
SUMMARY:Hands-On Electrical Techniques
END:VEVENT
BEGIN:VEVENT
DTSTART:20230601T223000Z

DTEND:20230602T020000Z
LOCATION:College of Central Florida, Ocala Campus,  3001 SW College Road, Ocala, FL
SUMMARY:Hands-On Electrical Techniques
END:VEVENT
X-WR-TIMEZONE:UTC
END:VCALENDAR
