BEGIN:VCALENDAR
VERSION:2.0
CALSCALE:GREGORIAN
METHOD:PUBLISH
PRODID:
SCALE:GREGORIAN
TIMEZONE:UTC
BEGIN:VEVENT
DTSTART:20230417T223000Z

DTEND:20230418T020000Z
LOCATION:Johnson College,  3427 N Main Avenue, Scranton, PA
SUMMARY:EV & Hybrid Safety & Service
END:VEVENT
BEGIN:VEVENT
DTSTART:20230418T223000Z

DTEND:20230419T020000Z
LOCATION:Johnson College,  3427 N Main Avenue, Scranton, PA
SUMMARY:EV & Hybrid Safety & Service
END:VEVENT
X-WR-TIMEZONE:UTC
END:VCALENDAR
