BEGIN:VCALENDAR
VERSION:2.0
CALSCALE:GREGORIAN
METHOD:PUBLISH
PRODID:
SCALE:GREGORIAN
TIMEZONE:UTC
BEGIN:VEVENT
DTSTART:20230308T233000Z

DTEND:20230309T030000Z
LOCATION:Holiday Inn Express & Suites,  301 Tucker Lane, Cocoa, FL
SUMMARY:Hands-On Electrical Techniques
END:VEVENT
BEGIN:VEVENT
DTSTART:20230309T233000Z

DTEND:20230310T030000Z
LOCATION:Holiday Inn Express & Suites,  301 Tucker Lane, Cocoa, FL
SUMMARY:Hands-On Electrical Techniques
END:VEVENT
X-WR-TIMEZONE:UTC
END:VCALENDAR
