BEGIN:VCALENDAR
VERSION:2.0
CALSCALE:GREGORIAN
METHOD:PUBLISH
PRODID:
SCALE:GREGORIAN
TIMEZONE:UTC
BEGIN:VEVENT
DTSTART:20230126T013000Z

DTEND:20230126T030000Z
LOCATION:Wherever you are at!,  , , 
SUMMARY:Gasoline Direct Injection
END:VEVENT
BEGIN:VEVENT
DTSTART:20230127T013000Z

DTEND:20230127T030000Z
LOCATION:Wherever you are at!,  , , 
SUMMARY:Gasoline Direct Injection
END:VEVENT
X-WR-TIMEZONE:UTC
END:VCALENDAR
