BEGIN:VCALENDAR
VERSION:2.0
CALSCALE:GREGORIAN
METHOD:PUBLISH
PRODID:
SCALE:GREGORIAN
TIMEZONE:UTC
BEGIN:VEVENT
DTSTART:20230118T180000Z

DTEND:20230118T193000Z
LOCATION:Wherever you are at!,  , , 
SUMMARY:GM Cylinder Contribution & Induction Systems Webinar
END:VEVENT
BEGIN:VEVENT
DTSTART:20230119T180000Z

DTEND:20230119T193000Z
LOCATION:Wherever you are at!,  , , 
SUMMARY:GM Cylinder Contribution & Induction Systems Webinar
END:VEVENT
X-WR-TIMEZONE:UTC
END:VCALENDAR
