BEGIN:VCALENDAR
VERSION:2.0
CALSCALE:GREGORIAN
METHOD:PUBLISH
PRODID:
SCALE:GREGORIAN
TIMEZONE:UTC
BEGIN:VEVENT
DTSTART:20230130T223000Z

DTEND:20230131T020000Z
LOCATION:Valley Career & Technical Center,  49 Hornet Road, Fishersville, VA
SUMMARY:Hands-On Electrical Techniques
END:VEVENT
BEGIN:VEVENT
DTSTART:20230131T223000Z

DTEND:20230201T020000Z
LOCATION:Valley Career & Technical Center,  49 Hornet Road, Fishersville, VA
SUMMARY:Hands-On Electrical Techniques
END:VEVENT
X-WR-TIMEZONE:UTC
END:VCALENDAR
