BEGIN:VCALENDAR
VERSION:2.0
CALSCALE:GREGORIAN
METHOD:PUBLISH
PRODID:
SCALE:GREGORIAN
TIMEZONE:UTC
BEGIN:VEVENT
DTSTART:20221129T023000Z

DTEND:20221129T060000Z
LOCATION:Cuesta College, Co-Sponsored by ATG,  Highway 1, San Luis Obispo, CA
SUMMARY:Drivability Best Practices
END:VEVENT
BEGIN:VEVENT
DTSTART:20221130T023000Z

DTEND:20221130T060000Z
LOCATION:Cuesta College, Co-Sponsored by ATG,  Highway 1, San Luis Obispo, CA
SUMMARY:Drivability Best Practices
END:VEVENT
X-WR-TIMEZONE:UTC
END:VCALENDAR
