BEGIN:VCALENDAR
VERSION:2.0
CALSCALE:GREGORIAN
METHOD:PUBLISH
PRODID:
SCALE:GREGORIAN
TIMEZONE:UTC
BEGIN:VEVENT
DTSTART:20220517T013000Z

DTEND:20220517T050000Z
LOCATION:Embassy Suites,  1441 Canyon Del Rey, Seaside, CA
SUMMARY:Ford Drivability & Code Diagnostics
END:VEVENT
BEGIN:VEVENT
DTSTART:20220518T013000Z

DTEND:20220518T050000Z
LOCATION:Embassy Suites,  1441 Canyon Del Rey, Seaside, CA
SUMMARY:Ford Drivability & Code Diagnostics
END:VEVENT
X-WR-TIMEZONE:UTC
END:VCALENDAR
